BEGIN:VCALENDAR
VERSION:2.0
PRODID:ADNA Events System
BEGIN:VEVENT
UID:69e74bde147ab
DTSTART;TZID=America/Toronto:20250224T120000
SEQUENCE:0
TRANSP:OPAQUE
DTEND;TZID=America/Toronto:20250224T133000
URL:https://dna.afptoronto.org/events/index.html/event-info/details/id/534
SUMMARY:Mastering Nonprofit Sponsorships - Part One
CLASS:PUBLIC
DESCRIPTION:Unlock the power of corporate sponsorships with this in-depth\,
  three-part virtual training series designed to equip nonprofits with the 
 tools\, strategies\, and confidence to secure meaningful partnerships. Whe
 ther you’re new to sponsorship or looking to refine your approach\, this
  series will take you from foundational concepts to real-world application
 s and high-level strategy.\n\n\nFor more information\, please visit: http
 s://afptoronto.org/events/mastering-nonprofit-sponsorships/\n\nhttps://dna
 .afptoronto.org/events/index.html/event-info/details/id/534
X-ALT-DESC;FMTTYPE=text/html:<p>Unlock the power of corporate sponsorships 
 with this in-depth\, three-part virtual training series designed to equip 
 nonprofits with the tools\, strategies\, and confidence to secure meaningf
 ul partnerships. Whether you&rsquo\;re new to sponsorship or looking to re
 fine your approach\, this series will take you from foundational concepts 
 to real-world applications and high-level strategy.<br />\n&nbsp\;</p>\n\n
 <p>For more information\, please visit:&nbsp\;https://afptoronto.org/event
 s/mastering-nonprofit-sponsorships/</p>\n
DTSTAMP:20260421T060518Z
END:VEVENT
END:VCALENDAR