BEGIN:VCALENDAR
VERSION:2.0
PRODID:ADNA Events System
BEGIN:VEVENT
UID:69e73ba9aaac6
DTSTART;TZID=America/Toronto:20260319T173000
SEQUENCE:0
TRANSP:OPAQUE
DTEND;TZID=America/Toronto:20260319T193000
URL:https://dna.afptoronto.org/events/index.html/event-info/details/id/557
SUMMARY:The Oops Hour
CLASS:PUBLIC
DESCRIPTION:We have all made them: the embarrassing oopsies\, colossal fail
 ures\, flops\, the errors.\n\nWith a few years of life under our belt most
  of us by now realize that mistakes and failures are all part of the human
  experience. Sometimes we can learn from them\, sometimes we grow from the
 m and sometimes we just don’t.\n\nWhat happens when our mistakes and fai
 lures happen at work? Within our sector the fundraising professionals’ m
 istakes and failures can sometimes feel like it carries a heavier price\, 
 with the potential of hurting our organizations\, our causes\, our relatio
 nships\, our reputation\, our confidence.\n\nBut there is always a way bac
 k. A bounce back\, a comeback.\n\nhttps://dna.afptoronto.org/events/index.
 html/event-info/details/id/557
X-ALT-DESC;FMTTYPE=text/html:<p>We have all made them: the embarrassing oop
 sies\, colossal failures\, flops\, the errors.<br />\n&nbsp\;<br />\nWith 
 a few years of life under our belt most of us by now realize that mistakes
  and failures are all part of the human experience but what happens when t
 hey take place&nbsp\;at work?<br />\n&nbsp\;<br />\nWithin the fundraising
  sector mistakes can sometimes feel like they carry a heavier price with t
 he potential of hurting our organizations\, our causes\, our relationships
 \, our reputation\, our confidence.<br />\n&nbsp\;<br />\nBut there is alw
 ays a way back. A bounce back\, a comeback.<br />\n&nbsp\;<br />\nFundrais
 ers!!! Join us this March 19th in person for AFP GTC&rsquo\;s Oops Hour.&n
 bsp\;<br />\n<br />\nA playful\, intimate\, and open conversation. Hear fr
 om others how they went beyond messy failures to find a way back.<br />\n&
 nbsp\;<br />\n&nbsp\;<br />\nNOTE: This is an in-person event\, and no rec
 ordings will be permitted. &ldquo\;Safe Space&rdquo\; rules are strictly i
 n effect.<br />\nCome to share or just listen.<br />\n&nbsp\;<br />\nSnack
 s and chats to be provided.</p>\n\n<p>&nbsp\;</p>\n\n<p><strong>Event Deta
 ils:</strong></p>\n\n<p>Date: Thursday\, March 19th\, 2026</p>\n\n<p>Time:
  5:30 - 7:30PM</p>\n\n<p>Location: Startuptive (123 Edward St\, Toronto)</
 p>\n
DTSTAMP:20260421T045609Z
END:VEVENT
END:VCALENDAR