BEGIN:VCALENDAR
VERSION:2.0
PRODID:ADNA Events System
BEGIN:VEVENT
UID:69e8d5f44335c
DTSTART;TZID=America/Toronto:20260505T120000
SEQUENCE:0
TRANSP:OPAQUE
DTEND;TZID=America/Toronto:20260528T140000
URL:https://dna.afptoronto.org/events/index.html/event-info/details/id/559
SUMMARY:Fundamentals of Fundraising - Spring 2026
CLASS:PUBLIC
DESCRIPTION:This virtual course offers a complete overview of the developme
 nt function\, featuring the most current information and techniques. The c
 ourse will provide an overview of skills\, techniques\, and program compon
 ents for individuals with 0 to 4 years of fundraising experience.\n\nThe A
 FP Fundamentals of Fundraising Course is composed of seven modules that ha
 ve been designed by experienced fundraising professionals to meet the real
 -world needs and challenges nonprofit organizations face every day. This p
 rogram includes case studies and projects for groups and individuals\, mak
 ing the learning experience both substantive and enjoyable.\n\nhttps://dna
 .afptoronto.org/events/index.html/event-info/details/id/559
X-ALT-DESC;FMTTYPE=text/html:<p>This virtual course offers a complete overv
 iew of the development function\, featuring the most current information a
 nd techniques. The course will provide an overview of skills\, techniques\
 , and program components for individuals with 0 to 4 years of fundraising 
 experience.</p>\n\n<p>The AFP Fundamentals of Fundraising Course is compos
 ed of seven modules that have been designed by experienced fundraising pro
 fessionals to meet the real-world needs and challenges nonprofit organizat
 ions face every day. This program includes case studies and projects for g
 roups and individuals\, making the learning experience both substantive an
 d enjoyable.</p>\n\n<p>Classes:&nbsp\;</p>\n\n<p>Tuesday\, May 5 &ndash\; 
 12:00 - 2:00 PM &ndash\; Module 1<br />\nThursday\, May 7 &ndash\; 12:00 -
  2:00 PM &ndash\; Module 2<br />\nTuesday\, May 12 &ndash\; 12:00 - 2:00 P
 M &ndash\; Module 3<br />\nThursday\, May 14 &ndash\; 12:00 - 2:00 PM &nda
 sh\; Module 4<br />\nTuesday\, May 19 &ndash\; 12:00 - 2:00 PM &ndash\; Mo
 dule 5<br />\nThursday\, May 21 &ndash\; 12:00 - 2:00 PM &ndash\; Module 6
 <br />\nTuesday\, May 26 - 12:00 - 2:00 PM &ndash\; Module 7<br />\nThursd
 ay\, May 28 &ndash\; 12:00 - 2:00 PM - Overview</p>\n\n<p><strong>The time
  zone for all sessions is EST/Toronto.</strong></p>\n\n<p>Course Outline:<
 /p>\n\n<p>Module 1: Overview of Fundraising<br />\nModule 2: Developing an
  Integrated Fundraising Program<br />\nModule 3: Marketing for Ongoing Suc
 cess<br />\nModule 4: Building &amp\; Sustaining Relationships<br />\nModu
 le 5: Securing the Gift<br />\nModule 6: Volunteers &ndash\; Partners in F
 undraising<br />\nModule 7: Management &amp\; Accountability<br />\nOvervi
 ew</p>\n
DTSTAMP:20260422T100644Z
END:VEVENT
END:VCALENDAR