BEGIN:VCALENDAR
VERSION:2.0
PRODID:ADNA Events System
BEGIN:VEVENT
UID:69e8d626e159f
DTSTART;TZID=America/Toronto:20260925T080000
SEQUENCE:0
TRANSP:OPAQUE
DTEND;TZID=America/Toronto:20260925T170000
URL:https://dna.afptoronto.org/events/index.html/event-info/details/id/560
SUMMARY:TOgather Conference 2026
CLASS:PUBLIC
DESCRIPTION:\n\nhttps://dna.afptoronto.org/events/index.html/event-info/det
 ails/id/560
DTSTAMP:20260422T100734Z
END:VEVENT
END:VCALENDAR